BEGIN:VCALENDAR
VERSION:2.0
PRODID:-//Association de redressement d&#039;entreprises - TMA - Montréal Turnaround Management Association - ECPv6.15.20//NONSGML v1.0//EN
CALSCALE:GREGORIAN
METHOD:PUBLISH
X-ORIGINAL-URL:https://tmamontreal.ca
X-WR-CALDESC:Évènements pour Association de redressement d&#039;entreprises - TMA - Montréal Turnaround Management Association
REFRESH-INTERVAL;VALUE=DURATION:PT1H
X-Robots-Tag:noindex
X-PUBLISHED-TTL:PT1H
BEGIN:VTIMEZONE
TZID:America/New_York
BEGIN:DAYLIGHT
TZOFFSETFROM:-0500
TZOFFSETTO:-0400
TZNAME:EDT
DTSTART:20250309T070000
END:DAYLIGHT
BEGIN:STANDARD
TZOFFSETFROM:-0400
TZOFFSETTO:-0500
TZNAME:EST
DTSTART:20251102T060000
END:STANDARD
BEGIN:DAYLIGHT
TZOFFSETFROM:-0500
TZOFFSETTO:-0400
TZNAME:EDT
DTSTART:20260308T070000
END:DAYLIGHT
BEGIN:STANDARD
TZOFFSETFROM:-0400
TZOFFSETTO:-0500
TZNAME:EST
DTSTART:20261101T060000
END:STANDARD
BEGIN:DAYLIGHT
TZOFFSETFROM:-0500
TZOFFSETTO:-0400
TZNAME:EDT
DTSTART:20270314T070000
END:DAYLIGHT
BEGIN:STANDARD
TZOFFSETFROM:-0400
TZOFFSETTO:-0500
TZNAME:EST
DTSTART:20271107T060000
END:STANDARD
END:VTIMEZONE
BEGIN:VEVENT
DTSTART;TZID=America/New_York:20260513T180000
DTEND;TZID=America/New_York:20260513T200000
DTSTAMP:20260421T070931
CREATED:20260210T215618Z
LAST-MODIFIED:20260407T144415Z
UID:14446-1778695200-1778702400@tmamontreal.ca
SUMMARY:TMA NOW SUMMIT - Opening Reception Montréal 2026
DESCRIPTION:TMA Montréal is pleased to invite professional women as well as their supporters and promoters (gentlemen\, you are welcome) from the restructuring and insolvency community to the TMA NOW Summit Opening Reception. \nThis friendly gathering offers a wonderful opportunity to connect\, build new relationships\, and enjoy a warm and engaging moment within our community.\nGuests will also have the chance to discover traditional Québec and Canadian flavors through our gourmet food stations\, curated to offer an authentic and festive culinary experience. \n********** \nTMA Montréal a le plaisir d’inviter les professionnelles ainsi que leurs collègues et alliés (messieurs\, vous êtes les bienvenus) de la communauté de la restructuration et de l’insolvabilité à son Cocktail de bienvenue.\nCette rencontre conviviale vous permettra de tisser de nouveaux liens\, d’échanger entre pairs et de profiter d’un moment chaleureux au cœur de notre communauté. \nPour l’occasion\, vous aurez le plaisir de découvrir des mets typiquement québécois et canadiens grâce à nos différentes stations gourmandes\, spécialement conçues pour offrir une expérience culinaire authentique et festive. \n********** \nDate: Wednesday\, May 13\, 2026 / Mercredi\, 13 Mai 2026\nTime: From 6:00 pm – 8:00 p.m. / 18h00- 20h00\nLocation: EY Offices – 900 De Maisonneuve Boulevard West\, Suite 2300\, Montréal\, H3A 0A8\, Canada\nPrice : \nParticipant NOW Summit 2026:  included in your Summit registration\nTMA Member: 150 $ CND\nTMA Non member: 175 $ CND \nWe look forward to welcoming you for a warm\, flavorful\, and engaging evening ! \nNous serions ravis de vous accueillir et de partager avec vous une soirée chaleureuse\, savoureuse et propice aux échanges! \n\n\n  \n\n\n\n Name / Nom\n \n \n E-mail / Courriel\n \n \n Firm / Entreprise\n \n \n Message (facultatif / optional)\n \n \n\n \n\n\n \n\n  \n   \n\n\n\n        \n        Participation : Opening Reception / Cocktail de bienvenue\n      \n\n\n\n        \n            TMA Member 150\,00 $ CAD\n          \n            TMA Non Member 175\,00 $ CAD\n          \n      \n\n\n  \n  \n\n\nAdd to calendar below
URL:https://tmamontreal.ca/evenement/now-summit-opening-reception-montreal-2026/
LOCATION:EY Offices\, 900\, De Maisonneuve boul\, suite 2300\, Montréal\, québec\, H3A 0A8\, Canada
CATEGORIES:Réseau des femmes (NOW)
END:VEVENT
END:VCALENDAR